BEGIN:VCALENDAR
VERSION:2.0
PRODID:-//hacksw/handcal//NONSGML v1.0//EN
METHOD:PUBLISH
CALSCALE:GREGORIAN
BEGIN:VEVENT
UID:69eaa973f0edc
DTSTART:20260424T210000Z
DTSTAMP:20260423T232123Z
DTEND:20260424T230000Z
LOCATION:Kultūras nams &quot\;Wiktorija&quot\;\, Graudu iela 36/38\, 
 Liepāja
DESCRIPTION:<p>Koncerta programma solās būt gana daudzveidīga. Ieskaņā 
 Proletariāta sonātes izpildījumam ar sitaminstrumentiem pievienosies 
 Evelīna Peterlevica. Tad galvenajā vidus daļā pie taustiņinstrumentie
 m būs ambientās un elektro-eksperimentālās mūzikas mākslinieks Mahi F
 . Bukimi padziļinot un iekrāsojot skanējumu ar vintage un moderniem i
 nstrumentiem. Taču vakara pārsteidzošā noslēguma daļā dažus skaņdarbu
 s atskaņos vēl nosaukumu neieguvusī apvienība trio\, kura sastāvā vēl
  ietilpst mūziķi no grupas Zari\, Nasty Smile un The Briefing dalībni
 eki Sandis Volkovs (bungas) un Uldis Meļķis (bass).</p>\n
URL;VALUE=U
 RI:
SUMMARY:Juris Peterlevics - "NETŪRE" // koncerts
END:VEVENT
END:VCALENDAR
