BEGIN:VCALENDAR
VERSION:2.0
PRODID:-//hacksw/handcal//NONSGML v1.0//EN
METHOD:PUBLISH
CALSCALE:GREGORIAN
BEGIN:VEVENT
UID:69e6c7468d40c
DTSTART:20260423T100000Z
DTSTAMP:20260421T003934Z
DTEND:20260423T222000Z
LOCATION:Kinoteātris &quot\;Cinamon Liepaja Balle&quot\;\, Rožu lauku
 ms 5/6\, Liepāja
DESCRIPTION:<p>Gatavojies YES DIENU nedēļai no 20. līdz 23. aprīlim! <br
  />\nTas nozīmē\, ka YES DIENAS cenas būs spēkā no pirmdienas līdz ce
 turtdienai. Tāpēc negaidi – nāc un skaties savas iemīļotākās filmas p
 ar neticami zemu cenu! <br />\n<br />\nSUPER KOMBO komplekts – €6.50<
 br />\nStandarta biļetes – €3.00<br />\n3D seansi +€1</p>\n\n<p>*Cena
 s attiecas tikai uz filmām ar YES DIENAS atribūtu.<br />\n*Cenas neat
 tiecas uz īpašajiem seansiem\, piemēram\, Mēneša hitiem\, pirmizrādēm
  u.c.</p>\n
URL;VALUE=URI:
SUMMARY:YES DIENU nedēļa no 20. līdz 23. aprīlim Cinamon Balle
END:VEVENT
END:VCALENDAR
