BEGIN:VCALENDAR
VERSION:2.0
PRODID:-//hacksw/handcal//NONSGML v1.0//EN
METHOD:PUBLISH
CALSCALE:GREGORIAN
BEGIN:VEVENT
UID:69e5ea80d091d
DTSTART:20260420T170000Z
DTSTAMP:20260420T085736Z
DTEND:20260510T150000Z
LOCATION:Koncertzāle &quot\;Lielais dzintars&quot\;\, Radio iela 8\, 
 Liepāja
DESCRIPTION:<p>Tekstils ir silts. Tekstils ir mājīgums. Tekstils ir dau
 dzveidīga valoda\, kurā stāstīt stāstus un piedzīvot emocijas. Tā ir 
 saruna. Ar mums\, un ar sevi pašu.<br />\nMēs aicinām to sajust un pi
 edzīvot.</p>\n\n<p>Māksla publiskā telpā ir būtisks komunikācijas pri
 ekšnoteikums\, savukārt tekstils – mājīguma radītājs\, tādēļ Latvijas
  Mākslas akadēmijas Tekstila studenti un pasniedzēji koncertzāles sab
 iedriskajai telpai “Pietura” radījuši izstādi “Laika pietura”. Koncer
 tzāles koprades telpā tekstils apdzīvo telpas centrālo sienu\, veidoj
 ot gan vienotu kopainu\, gan atsevišķus gandrīz divdesmit mākslinieku
  stāstus par kādu no viņu dzīves pieturvietām – kādu laika vai dzīves
  nogriezni\, mākslinieku sajūtām un pārdomām.<br />\n<br />\nŅemot vē
 rā telpas eksponēšanas specifiku\, izstādē redzamas plaknei veidotas 
 tekstīlijas\, kas ir neliela daļa no LMA tekstila specialitātē apgūst
 amā. Izstādē redzamie darbi radīti klasiskā gobelēna\, žakardgobelēna
 \, vilnas filcējuma\, taftinga\, izšuvuma un autortehnikās.</p>\n\n<p
 > </p>\n\n<p> </p>\n
URL;VALUE=URI:
SUMMARY:LMA Tekstila studentu un 
 pasniedzēju izstāde LAIKA PIETURA
END:VEVENT
END:VCALENDAR
