BEGIN:VCALENDAR
VERSION:2.0
PRODID:-//hacksw/handcal//NONSGML v1.0//EN
METHOD:PUBLISH
CALSCALE:GREGORIAN
BEGIN:VEVENT
UID:69e8b51467d69
DTSTART:20260424T100000Z
DTSTAMP:20260422T114628Z
DTEND:20260424T140000Z
LOCATION:Liepājas Valsts tehnikums\, Ventspils iela 51\, Liepāja
DESCRIPTION:<p>Konditoreja “Saldā paradīze” aicina uz bento kūku gatavo
 šanas meistarklasi! </p>\n\n<p>Aicinām uz praktisku un iedvesmojošu m
 eistarklasi\, kurā soli pa solim apgūsi bento kūku veidošanu - no pam
 atnes līdz dekorēšanai.</p>\n\n<p>Meistarklasē:</p>\n\n<ul>\n	<li>pag
 atavosi savu bento kūku no sākuma līdz galam</li>\n	<li>apgūsi krēma 
 pagatavošanu un kūkas salikšanu</li>\n	<li>iemācīsies vienkāršas\, be
 t efektīgas dekorēšanas tehnikas</li>\n	<li>iegūsi zināšanas\, ko var
 ēsi izmantot arī mājās</li>\n</ul>\n\n<p>Šī meistarklase ir piemērota
  gan iesācējiem\, gan tiem\, kuri vēlas pilnveidot savas prasmes un i
 emācīties veidot estētiskas\, modernas mini kūkas.</p>\n\n<p>Darbs no
 tiek praktiski - katrs dalībnieks gatavo savu kūku un var to paņemt l
 īdzi.</p>\n\n<p>Pievienojies un atklāj bento kūku pasauli! </p>\n
URL
 ;VALUE=URI:
SUMMARY:Bento kūku gatavošanas meistarklase
END:VEVENT
END:VCALENDAR
