BEGIN:VCALENDAR
VERSION:2.0
PRODID:-//hacksw/handcal//NONSGML v1.0//EN
METHOD:PUBLISH
CALSCALE:GREGORIAN
BEGIN:VEVENT
UID:69e4c018b1807
DTSTART:20260417T120000Z
DTSTAMP:20260419T114424Z
DTEND:20260507T180000Z
LOCATION:Galerija &quot\;Romas dārzs&quot\;\, Zivju iela 3\, Liepāja

 DESCRIPTION:<p>„ BŪTNES UN TO ĒNAS ” ir izstāde\, kas veltīta sievietei
  kā centrālajai esības asij. Sievietei\, kura vienlaikus atklājas kā 
 daudzslāņaina būtne : sargātāja\, māte\, kolēģe\, māsa\, sieva\, meit
 a. Katra no šīm lomām atstāj savu nospiedumu – redzamu vai klusu\, ga
 išu vai smagu. Izstādes darbos sieviete tiek atklāta kā būtne un viņa
 s ēnas – sabiedrības gaidas\, pārmantotās lomas\, iekšējie stāvokļi. 
 Tas ir vizuāls vēstījums par identitāti\, par būšanu pašai starp daud
 zajiem “man jābūt”\, par gaismu\, kas met ēnu\, un par ēnu\, kas ļauj
  ieraudzīt gaismu.</p>\n
URL;VALUE=URI:
SUMMARY:Izstāde Būtnes un to 
 ēnas
END:VEVENT
END:VCALENDAR
