BEGIN:VCALENDAR
VERSION:2.0
PRODID:-//hacksw/handcal//NONSGML v1.0//EN
METHOD:PUBLISH
CALSCALE:GREGORIAN
BEGIN:VEVENT
UID:69eca5add82a5
DTSTART:20260425T120000Z
DTSTAMP:20260425T112949Z
DTEND:20261231T150000Z
LOCATION:Mūzikas telpa - galerija &quot\;Vinilkoks&quot\;\, Avotu iel
 a 4\, Liepāja
DESCRIPTION:<p>Raimonds Pauls – tā ir Latvija! (Lia Guļevska)</p>\n\n<p
 >Mūzikas telpas “Vinilkoks” galerijā lūkojama kolekcionāra Raita Pavl
 oviča veidotā izstāde -</p>\n\n<p>„Komponista Raimonda Paula daiļrade
  skaņuplatēs un fotogrāfijās”.</p>\n\n<p>Mūzikas telpas-galerijas „Vi
 nilkoks” saimnieks Raitis Pavlovičs ir skaņuplašu entuziasts un kolek
 cionārs ar stāžu. Viņa kolekcijā ir liels klāsts ar latviešu un ārzem
 ju mūziķu izdotām skaņuplatēm. Viena no viņa plašākajām kolekcijām ir
  saistīta komponista Raimonda Paula daiļradi. Patreizējā brīdī kolekc
 ijā ir vairāk kā 330 skaņuplates ar Raimonda Paula mūziku un piedalīš
 anos ierakstos\, kas ir izdotas Latvijā\, ASV\, Austrālijā\, Japānā\,
  Kanādā\, Zviedrijā\, Vācijā un citās valstīs no 1956. gada līdz mūsd
 ienām. Lielākā daļa skaņuplašu ir Maestro autogrāfētas. Izstādi papil
 dina fotogrāfa Aigara Hibnera fotogrāfijas.</p>\n\n<p>P.S. Grupām pir
 ms apmeklējuma ieteicams uzzvanīt! </p>\n
URL;VALUE=URI:
SUMMARY:Izst
 āde-Raimonda Paula daiļrade skaņuplatēs un fotogrāfijās
END:VEVENT

 END:VCALENDAR
