BEGIN:VCALENDAR
VERSION:2.0
PRODID:-//hacksw/handcal//NONSGML v1.0//EN
METHOD:PUBLISH
CALSCALE:GREGORIAN
BEGIN:VEVENT
UID:69e96aff6cea8
DTSTART:20260424T190000Z
DTSTAMP:20260423T004239Z
DTEND:20260424T220000Z
LOCATION:Koncertzāle &quot\;Lielais dzintars&quot\;\, Radio iela 8\, 
 Liepāja
DESCRIPTION:<p>Pēteris Vasks is one of Europe’s most notable composers 
 of academic music from the late 20th century. Vasks is a multiple rec
 ipient of the Grand Music Award\, including in 2025—for lifetime achi
 evement.</p>\n\n<p>Over the course of his creative life\, he has tran
 sformed from an avant-garde\, rebellious young author speaking the la
 nguage of modernist music into a grand painter of the eternal struggl
 e between good and evil\, using the principles of so-called “new simp
 licity” and a universally understandable musical expression.</p>\n\n<
 p>His compositions are not just sounds—they are stories about a world
  where love and hope struggle with fragility and pain. In this annive
 rsary concert\, the Liepāja Symphony Orchestra invites you to explore
  Vasks’s creative journey—from the experimental energy of the 1970s t
 o the spiritual meditation of the 21st century.</p>\n\n<p>Featuring:<
 br />\nLīga Baltābola (violin)<br />\nGuntis Kuzma (clarinet)<br />\n
 Klāvs Jankevics (cello)<br />\nLiepaja Symphony Orchestra Wind Quinte
 t</p>\n\n<p>Liepāja Symphony Orchestra<br />\nConductor Guntis Kuzma<
 /p>\n
URL;VALUE=URI:
SUMMARY:Vox Amoris. Pēteris Vasks 80th anniversary concert
END:VEVENT
END:VCALENDAR
