BEGIN:VCALENDAR
VERSION:2.0
PRODID:-//hacksw/handcal//NONSGML v1.0//EN
METHOD:PUBLISH
CALSCALE:GREGORIAN
BEGIN:VEVENT
UID:69e6da07c7666
DTSTART:20240827T183000Z
DTSTAMP:20260421T015935Z
DTEND:20251231T200000Z
LOCATION:Jūrmalas parks\, 56.502985\, 20.997575
DESCRIPTION:<p>Tiekamies Jūrmalas ielas galā 18:30 (nedaudz uzgaidām\,
  ja kāds atzīmējies\, ka būs\, bet kavējas. Temps atkarībā no sanākuš
 o spējām un varēšanas. Ir\, kas skrien ātrāk\, ir kas lēnāk. Neviens 
 no lēnāk skrienošajiem netiek pamests vienatnē\, pavisam noteikti atr
 adīsim kādu ar līdzīgu tempu. Skrienam pa piekrasti\, jūrmalas veloce
 liņu\, vai kādu trasi\, ja iepriekš tāda izplānota. Parasti ~10km. </
 p>\n\n<p><br />\nJa tev kāda trase padomā vai vieta\, ko varam skrien
 ot apskatīt\, tad droši piedāvā!</p>\n
URL;VALUE=URI:
SUMMARY:"Skrien
 am Liepājā!" - koptreniņš
END:VEVENT
END:VCALENDAR
