BEGIN:VCALENDAR
VERSION:2.0
PRODID:-//hacksw/handcal//NONSGML v1.0//EN
METHOD:PUBLISH
CALSCALE:GREGORIAN
BEGIN:VEVENT
UID:69e6b455ba269
DTSTART:20220412T183000Z
DTSTAMP:20260420T231845Z
DTEND:20251231T200000Z
LOCATION:Jūrmalas parks\, 56.502985\, 20.997575
DESCRIPTION:<p>Встречаемся в Приморском парке\, в конце улицы Юрмалас 
 в 18.30 (немного подождем тех\, кто отметился о присутствии\, но чуть
 -чуть запаздывает). Темп пробежки в зависимости от возможностей и жел
 ания участников. Есть те\, кто бежит быстрее\, есть и такие\, кто мед
 ленно. Никто из бегущих медленно не оставляется в одиночке\, мы обяза
 тельно найдём того\, кто бежит в таком же темпе. Бежим вдоль побережь
 я\, по велодорожкам\, или какой-либо другой трассе\, если о таковой з
 аранее обусловимся. Обычно ~ 10 км.</p>\n
URL;VALUE=URI:
SUMMARY:«Про
 бежимся в Лиепае!" - Совместная тренировка
END:VEVENT
END:VCALENDAR

 