BEGIN:VCALENDAR
VERSION:2.0
PRODID:-//hacksw/handcal//NONSGML v1.0//EN
METHOD:PUBLISH
CALSCALE:GREGORIAN
BEGIN:VEVENT
UID:69ead221992ca
DTSTART:20200916T100000Z
DTSTAMP:20260424T021457Z
DTEND:20201219T180000Z
LOCATION:Liepājas okupācijas muzejs\, K. Ukstiņa iela 7/9\, Liepāja
D
 ESCRIPTION:<p>Exhibition "Life Stories Behind the Soviet Terror" was cre
 ated in to commemorate the people whose lives were sacrificed when th
 e Soviet times begun in Latvia. The exhibition also honors the people
  who were brave enough to take their stand against the Soviet regime.
 </p>\n\n<p>The exhibition is located on the first floor of the museum
 \, and tells the history of the events starting from the year 1939 un
 til the beginning of Latvian National Awakening in 1980s. The exhibit
 ion was created in the cooperation with The Museum of the Occupation 
 of Latvia.</p>\n\n<p>Liepāja Museum received a special gift for this 
 exhibition from The Museum of the Occupation of Latvia - train wagon 
 model that is the type of wagon Soviet authorities used for the mass 
 deportations to Siberia.</p>\n\n<p>Exhibition is open 18.06.2020.-31.
 12.2020.</p>\n
URL;VALUE=URI:
SUMMARY:Life Stories behind the Soviet Terror
END:VEVENT
END:VCALENDAR
